BEGIN:VCALENDAR
VERSION:2.0
PRODID:-//Geauga County - ECPv6.15.20//NONSGML v1.0//EN
CALSCALE:GREGORIAN
METHOD:PUBLISH
X-WR-CALNAME:Geauga County
X-ORIGINAL-URL:https://geauga.oh.gov
X-WR-CALDESC:Events for Geauga County
REFRESH-INTERVAL;VALUE=DURATION:PT1H
X-Robots-Tag:noindex
X-PUBLISHED-TTL:PT1H
BEGIN:VTIMEZONE
TZID:America/New_York
BEGIN:DAYLIGHT
TZOFFSETFROM:-0500
TZOFFSETTO:-0400
TZNAME:EDT
DTSTART:20250309T070000
END:DAYLIGHT
BEGIN:STANDARD
TZOFFSETFROM:-0400
TZOFFSETTO:-0500
TZNAME:EST
DTSTART:20251102T060000
END:STANDARD
BEGIN:DAYLIGHT
TZOFFSETFROM:-0500
TZOFFSETTO:-0400
TZNAME:EDT
DTSTART:20260308T070000
END:DAYLIGHT
BEGIN:STANDARD
TZOFFSETFROM:-0400
TZOFFSETTO:-0500
TZNAME:EST
DTSTART:20261101T060000
END:STANDARD
BEGIN:DAYLIGHT
TZOFFSETFROM:-0500
TZOFFSETTO:-0400
TZNAME:EDT
DTSTART:20270314T070000
END:DAYLIGHT
BEGIN:STANDARD
TZOFFSETFROM:-0400
TZOFFSETTO:-0500
TZNAME:EST
DTSTART:20271107T060000
END:STANDARD
END:VTIMEZONE
BEGIN:VEVENT
DTSTART;TZID=America/New_York:20261110T073000
DTEND;TZID=America/New_York:20261110T073000
DTSTAMP:20260422T061429
CREATED:20251215T192417Z
LAST-MODIFIED:20251215T192417Z
UID:20184-1794295800-1794295800@geauga.oh.gov
SUMMARY:Planning Commission Meeting
DESCRIPTION:The location for all regular meetings will be at 12611 Ravenwood Drive\, 3rd Floor\, Conference Room A334\, Chardon\, Ohio 44024 at 7:30 a.m.
URL:https://geauga.oh.gov/event/planning-commission-meeting-26/
LOCATION:Geauga County Office Building\, 12611 Ravenwood Drive\, Chardon\, OH\, 44024\, United States
END:VEVENT
BEGIN:VEVENT
DTSTART;TZID=America/New_York:20261015T073000
DTEND;TZID=America/New_York:20261015T073000
DTSTAMP:20260422T061429
CREATED:20251215T192322Z
LAST-MODIFIED:20251215T192500Z
UID:20181-1792049400-1792049400@geauga.oh.gov
SUMMARY:Planning Commission Meeting
DESCRIPTION:The location for all regular meetings will be at 12611 Ravenwood Drive\, 3rd Floor\, Conference Room A334\, Chardon\, Ohio 44024 at 7:30 a.m. \nThis meeting is on a Thursday\, located in the Geauga County Office Building Meeting Room B167 & B168.
URL:https://geauga.oh.gov/event/planning-commission-meeting-25/
LOCATION:Geauga County Office Building\, 12611 Ravenwood Drive\, Chardon\, OH\, 44024\, United States
END:VEVENT
BEGIN:VEVENT
DTSTART;TZID=America/New_York:20260910T073000
DTEND;TZID=America/New_York:20260910T073000
DTSTAMP:20260422T061429
CREATED:20251215T191827Z
LAST-MODIFIED:20251215T192154Z
UID:20179-1789025400-1789025400@geauga.oh.gov
SUMMARY:Planning Commission Meeting
DESCRIPTION:The location for all regular meetings will be at 12611 Ravenwood Drive\, 3rd Floor\, Conference Room A334\, Chardon\, Ohio 44024 at 7:30 a.m. \nThis meeting is on a Thursday.
URL:https://geauga.oh.gov/event/planning-commission-meeting-24/
LOCATION:Geauga County Office Building\, 12611 Ravenwood Drive\, Chardon\, OH\, 44024\, United States
END:VEVENT
BEGIN:VEVENT
DTSTART;TZID=America/New_York:20260811T073000
DTEND;TZID=America/New_York:20260811T073000
DTSTAMP:20260422T061429
CREATED:20251215T191714Z
LAST-MODIFIED:20251215T192423Z
UID:20177-1786433400-1786433400@geauga.oh.gov
SUMMARY:Planning Commission Meeting
DESCRIPTION:The location for all regular meetings will be at 12611 Ravenwood Drive\, 3rd Floor\, Conference Room A334\, Chardon\, Ohio 44024 at 7:30 a.m.
URL:https://geauga.oh.gov/event/planning-commission-meeting-23/
LOCATION:Geauga County Office Building\, 12611 Ravenwood Drive\, Chardon\, OH\, 44024\, United States
END:VEVENT
BEGIN:VEVENT
DTSTART;TZID=America/New_York:20260714T073000
DTEND;TZID=America/New_York:20260714T073000
DTSTAMP:20260422T061429
CREATED:20251215T191634Z
LAST-MODIFIED:20251215T191634Z
UID:20175-1784014200-1784014200@geauga.oh.gov
SUMMARY:Planning Commission Meeting
DESCRIPTION:The location for all regular meetings will be at 12611 Ravenwood Drive\, 3rd Floor\, Conference Room A334\, Chardon\, Ohio 44024 at 7:30 a.m.
URL:https://geauga.oh.gov/event/planning-commission-meeting-22/
LOCATION:Geauga County Office Building\, 12611 Ravenwood Drive\, Chardon\, OH\, 44024\, United States
END:VEVENT
BEGIN:VEVENT
DTSTART;TZID=America/New_York:20260609T073000
DTEND;TZID=America/New_York:20260609T073000
DTSTAMP:20260422T061429
CREATED:20251215T191246Z
LAST-MODIFIED:20251215T191528Z
UID:20173-1780990200-1780990200@geauga.oh.gov
SUMMARY:Planning Commission Meeting
DESCRIPTION:The location for all regular meetings will be at 12611 Ravenwood Drive\, 3rd Floor\, Conference Room A334\, Chardon\, Ohio 44024 at 7:30 a.m.
URL:https://geauga.oh.gov/event/planning-commission-meeting-21/
LOCATION:Geauga County Office Building\, 12611 Ravenwood Drive\, Chardon\, OH\, 44024\, United States
END:VEVENT
BEGIN:VEVENT
DTSTART;TZID=America/New_York:20260512T073000
DTEND;TZID=America/New_York:20260512T073000
DTSTAMP:20260422T061429
CREATED:20251215T191200Z
LAST-MODIFIED:20251215T191403Z
UID:20171-1778571000-1778571000@geauga.oh.gov
SUMMARY:Planning Commission Meeting
DESCRIPTION:The location for all regular meetings will be at 12611 Ravenwood Drive\, 3rd Floor\, Conference Room A334\, Chardon\, Ohio 44024 at 7:30 a.m.
URL:https://geauga.oh.gov/event/planning-commission-meeting-20/
LOCATION:Geauga County Office Building\, 12611 Ravenwood Drive\, Chardon\, OH\, 44024\, United States
END:VEVENT
BEGIN:VEVENT
DTSTART;TZID=America/New_York:20260428T093000
DTEND;TZID=America/New_York:20260428T093000
DTSTAMP:20260422T061429
CREATED:20260401T120504Z
LAST-MODIFIED:20260401T120504Z
UID:20344-1777368600-1777368600@geauga.oh.gov
SUMMARY:Commissioners' Meeting
DESCRIPTION:The Commissioners will hold session at 9:30 a.m.
URL:https://geauga.oh.gov/event/commissioners-meeting-111/
LOCATION:Commissioners’ Chambers\, 12611 Ravenwood Drive\, Room B303\, Chardon\, 44024\, United States
END:VEVENT
BEGIN:VEVENT
DTSTART;TZID=America/New_York:20260426T110000
DTEND;TZID=America/New_York:20260426T190000
DTSTAMP:20260422T061429
CREATED:20260420T195515Z
LAST-MODIFIED:20260420T195515Z
UID:20364-1777201200-1777230000@geauga.oh.gov
SUMMARY:The Geauga County Maple Festival
DESCRIPTION:
URL:https://geauga.oh.gov/event/the-geauga-county-maple-festival-4/
END:VEVENT
BEGIN:VEVENT
DTSTART;TZID=America/New_York:20260425T100000
DTEND;TZID=America/New_York:20260425T230000
DTSTAMP:20260422T061429
CREATED:20260420T195438Z
LAST-MODIFIED:20260420T195438Z
UID:20362-1777111200-1777158000@geauga.oh.gov
SUMMARY:The Geauga County Maple Festival
DESCRIPTION:
URL:https://geauga.oh.gov/event/the-geauga-county-maple-festival-3/
END:VEVENT
BEGIN:VEVENT
DTSTART;TZID=America/New_York:20260424T100000
DTEND;TZID=America/New_York:20260424T230000
DTSTAMP:20260422T061429
CREATED:20260420T195357Z
LAST-MODIFIED:20260420T195357Z
UID:20360-1777024800-1777071600@geauga.oh.gov
SUMMARY:The Geauga County Maple Festival
DESCRIPTION:
URL:https://geauga.oh.gov/event/the-geauga-county-maple-festival-2/
END:VEVENT
BEGIN:VEVENT
DTSTART;TZID=America/New_York:20260423T120000
DTEND;TZID=America/New_York:20260423T220000
DTSTAMP:20260422T061429
CREATED:20260420T195141Z
LAST-MODIFIED:20260420T195141Z
UID:20357-1776945600-1776981600@geauga.oh.gov
SUMMARY:The Geauga County Maple Festival
DESCRIPTION:
URL:https://geauga.oh.gov/event/the-geauga-county-maple-festival/
END:VEVENT
BEGIN:VEVENT
DTSTART;TZID=America/New_York:20260423T090000
DTEND;TZID=America/New_York:20260423T090000
DTSTAMP:20260422T061429
CREATED:20260421T161056Z
LAST-MODIFIED:20260421T161300Z
UID:20370-1776934800-1776934800@geauga.oh.gov
SUMMARY:Commissioners' Special Meeting
DESCRIPTION:April 21\, 2026 \nNOTICE OF SPECIAL MEETING \nThe Geauga County Board of Commissioners will hold a special meeting on Thursday\, April 23\, 2026\, at 9:00 a.m.\, that will include a Work Session with the Building Department. This meeting will be held at the Geauga County Office Building\, Room B303\, 12611 Ravenwood Drive\, Chardon\, Ohio. \n  \nChristine Blair\, Clerk
URL:https://geauga.oh.gov/event/commissioners-special-session-2/
LOCATION:Commissioners’ Chambers\, 12611 Ravenwood Drive\, Room B303\, Chardon\, 44024\, United States
END:VEVENT
BEGIN:VEVENT
DTSTART;TZID=America/New_York:20260421T093000
DTEND;TZID=America/New_York:20260421T093000
DTSTAMP:20260422T061429
CREATED:20260401T120321Z
LAST-MODIFIED:20260421T160506Z
UID:20342-1776763800-1776763800@geauga.oh.gov
SUMMARY:Commissioners' Special Meeting
DESCRIPTION:April 21\, 2026 \nNOTICE OF SPECIAL MEETING \nThe Geauga County Board of Commissioners will hold a special meeting on Thursday\, April 23\, 2026\, at 9:00 a.m.\, that will include a Work Session with the Building Department. This meeting will be held at the Geauga County Office Building\, Room B303\, 12611 Ravenwood Drive\, Chardon\, Ohio. \n  \nChristine Blair\, Clerk
URL:https://geauga.oh.gov/event/commissioners-meeting-110/
LOCATION:Commissioners’ Chambers\, 12611 Ravenwood Drive\, Room B303\, Chardon\, 44024\, United States
END:VEVENT
BEGIN:VEVENT
DTSTART;TZID=America/New_York:20260414T093000
DTEND;TZID=America/New_York:20260414T093000
DTSTAMP:20260422T061429
CREATED:20260318T120157Z
LAST-MODIFIED:20260318T120157Z
UID:20327-1776159000-1776159000@geauga.oh.gov
SUMMARY:Commissioners' Meeting
DESCRIPTION:The Commissioners will hold session at 9:30 a.m.
URL:https://geauga.oh.gov/event/commissioners-meeting-108/
LOCATION:Commissioners’ Chambers\, 12611 Ravenwood Drive\, Room B303\, Chardon\, 44024\, United States
END:VEVENT
BEGIN:VEVENT
DTSTART;TZID=America/New_York:20260414T073000
DTEND;TZID=America/New_York:20260414T073000
DTSTAMP:20260422T061429
CREATED:20251215T191022Z
LAST-MODIFIED:20251215T191343Z
UID:20169-1776151800-1776151800@geauga.oh.gov
SUMMARY:Planning Commission Meeting
DESCRIPTION:The location for all regular meetings will be at 12611 Ravenwood Drive\, 3rd Floor\, Conference Room A334\, Chardon\, Ohio 44024 at 7:30 a.m.
URL:https://geauga.oh.gov/event/planning-commission-meeting-19/
LOCATION:Geauga County Office Building\, 12611 Ravenwood Drive\, Chardon\, OH\, 44024\, United States
END:VEVENT
BEGIN:VEVENT
DTSTART;TZID=America/New_York:20260407T100000
DTEND;TZID=America/New_York:20260407T100000
DTSTAMP:20260422T061429
CREATED:20260318T120429Z
LAST-MODIFIED:20260319T194732Z
UID:20329-1775556000-1775556000@geauga.oh.gov
SUMMARY:Commissioners' Meeting
DESCRIPTION:The Commissioners will hold session at 10:00 a.m. in Judge Paschke’s Courtroom\, Chardon\, thatwill include the Ribbon Cutting on the new Courthouse Expansion and conclude at the Heritage House.
URL:https://geauga.oh.gov/event/commissioners-meeting-109/
LOCATION:Geauga County Courthouse\, 100 Short Court Street\, Chardon\, OH\, 44024\, United States
END:VEVENT
BEGIN:VEVENT
DTSTART;TZID=America/New_York:20260331T093000
DTEND;TZID=America/New_York:20260331T093000
DTSTAMP:20260422T061429
CREATED:20260318T115959Z
LAST-MODIFIED:20260318T115959Z
UID:20325-1774949400-1774949400@geauga.oh.gov
SUMMARY:Commissioners' Meeting
DESCRIPTION:The Commissioners will hold session at 9:30 a.m. that will include a meeting at 10:00 a.m. of the Statutory Group\, consisting of the Commissioners\, Sheriff\, Judge of the Common Pleas Court\, Judge of the Probate Court and Clerk of Courts\, pursuant to O.R.C. 153.36 for the review andapproval of plans\, drawings\, representations\, bills of materials\, specifications of work and estimates of the cost thereof in detail and in the aggregate for the proposed Geauga County Safety Center Roof Upgrade Project.
URL:https://geauga.oh.gov/event/commissioners-meeting-107/
LOCATION:Commissioners’ Chambers\, 12611 Ravenwood Drive\, Room B303\, Chardon\, 44024\, United States
END:VEVENT
BEGIN:VEVENT
DTSTART;TZID=America/New_York:20260330T183000
DTEND;TZID=America/New_York:20260330T194500
DTSTAMP:20260422T061429
CREATED:20260313T121652Z
LAST-MODIFIED:20260313T121652Z
UID:20322-1774895400-1774899900@geauga.oh.gov
SUMMARY:Protecting Geauga Residents & Businesses: Cybersecurity Awareness
DESCRIPTION:
URL:https://geauga.oh.gov/event/protecting-geauga-residents-businesses-cybersecurity-awareness/
LOCATION:Geauga County Office Building\, 12611 Ravenwood Drive\, Chardon\, OH\, 44024\, United States
END:VEVENT
BEGIN:VEVENT
DTSTART;TZID=America/New_York:20260317T093000
DTEND;TZID=America/New_York:20260317T093000
DTSTAMP:20260422T061429
CREATED:20260227T125123Z
LAST-MODIFIED:20260227T182729Z
UID:20311-1773739800-1773739800@geauga.oh.gov
SUMMARY:Commissioners' Meeting
DESCRIPTION:The Commissioners will hold session at 9:30 a.m.
URL:https://geauga.oh.gov/event/commissioners-meeting-106/
LOCATION:Commissioners’ Chambers\, 12611 Ravenwood Drive\, Room B303\, Chardon\, 44024\, United States
END:VEVENT
BEGIN:VEVENT
DTSTART;TZID=America/New_York:20260310T093000
DTEND;TZID=America/New_York:20260310T093000
DTSTAMP:20260422T061429
CREATED:20260227T125012Z
LAST-MODIFIED:20260227T182639Z
UID:20309-1773135000-1773135000@geauga.oh.gov
SUMMARY:Commissioners' Meeting
DESCRIPTION:The Commissioners will hold session at 9:30 a.m.
URL:https://geauga.oh.gov/event/commissioners-meeting-105/
LOCATION:Commissioners’ Chambers\, 12611 Ravenwood Drive\, Room B303\, Chardon\, 44024\, United States
END:VEVENT
BEGIN:VEVENT
DTSTART;TZID=America/New_York:20260310T073000
DTEND;TZID=America/New_York:20260310T073000
DTSTAMP:20260422T061429
CREATED:20251215T190548Z
LAST-MODIFIED:20251215T191338Z
UID:20167-1773127800-1773127800@geauga.oh.gov
SUMMARY:Planning Commission Meeting
DESCRIPTION:The location for all regular meetings will be at 12611 Ravenwood Drive\, 3rd Floor\, Conference Room A334\, Chardon\, Ohio 44024 at 7:30 a.m.
URL:https://geauga.oh.gov/event/planning-commission-meeting-18/
LOCATION:Geauga County Office Building\, 12611 Ravenwood Drive\, Chardon\, OH\, 44024\, United States
END:VEVENT
BEGIN:VEVENT
DTSTART;TZID=America/New_York:20260303T093000
DTEND;TZID=America/New_York:20260303T093000
DTSTAMP:20260422T061429
CREATED:20260218T194334Z
LAST-MODIFIED:20260225T191039Z
UID:20297-1772530200-1772530200@geauga.oh.gov
SUMMARY:Commissioners' Meeting
DESCRIPTION:The Commissioners will hold session at 9:30 a.m.
URL:https://geauga.oh.gov/event/commissioners-meeting-104/
LOCATION:Commissioners’ Chambers\, 12611 Ravenwood Drive\, Room B303\, Chardon\, 44024\, United States
END:VEVENT
BEGIN:VEVENT
DTSTART;TZID=America/New_York:20260224T093000
DTEND;TZID=America/New_York:20260224T093000
DTSTAMP:20260422T061429
CREATED:20260204T125741Z
LAST-MODIFIED:20260225T190739Z
UID:20271-1771925400-1771925400@geauga.oh.gov
SUMMARY:Commissioners' Meeting
DESCRIPTION:The Commissioners will hold session at 9:30 a.m.
URL:https://geauga.oh.gov/event/commissioners-meeting-103/
LOCATION:Commissioners’ Chambers\, 12611 Ravenwood Drive\, Room B303\, Chardon\, 44024\, United States
END:VEVENT
BEGIN:VEVENT
DTSTART;TZID=America/New_York:20260219T093000
DTEND;TZID=America/New_York:20260219T093000
DTSTAMP:20260422T061429
CREATED:20260204T125631Z
LAST-MODIFIED:20260225T190818Z
UID:20269-1771493400-1771493400@geauga.oh.gov
SUMMARY:Commissioners' Meeting
DESCRIPTION:The Commissioners will hold session at 9:30 a.m.
URL:https://geauga.oh.gov/event/commissioners-meeting-102/
LOCATION:Commissioners’ Chambers\, 12611 Ravenwood Drive\, Room B303\, Chardon\, 44024\, United States
END:VEVENT
BEGIN:VEVENT
DTSTART;VALUE=DATE:20260216
DTEND;VALUE=DATE:20260217
DTSTAMP:20260422T061429
CREATED:20260204T125517Z
LAST-MODIFIED:20260209T210945Z
UID:20267-1771200000-1771286399@geauga.oh.gov
SUMMARY:County Offices Closed
DESCRIPTION:County offices will be closed for general business due to the Presidents’ Day holiday. Twenty-four-hour operations will continue to operate as usual.
URL:https://geauga.oh.gov/event/county-offices-closed-25/
END:VEVENT
BEGIN:VEVENT
DTSTART;TZID=America/New_York:20260210T093000
DTEND;TZID=America/New_York:20260210T093000
DTSTAMP:20260422T061429
CREATED:20260121T191252Z
LAST-MODIFIED:20260121T191252Z
UID:20225-1770715800-1770715800@geauga.oh.gov
SUMMARY:Commissioners' Meeting
DESCRIPTION:The Commissioners will hold session at 9:30 a.m.
URL:https://geauga.oh.gov/event/commissioners-meeting-101/
LOCATION:Commissioners’ Chambers\, 12611 Ravenwood Drive\, Room B303\, Chardon\, 44024\, United States
END:VEVENT
BEGIN:VEVENT
DTSTART;TZID=America/New_York:20260210T073000
DTEND;TZID=America/New_York:20260210T073000
DTSTAMP:20260422T061429
CREATED:20251215T190424Z
LAST-MODIFIED:20251215T191452Z
UID:20165-1770708600-1770708600@geauga.oh.gov
SUMMARY:Planning Commission Meeting
DESCRIPTION:The location for all regular meetings will be at 12611 Ravenwood Drive\, 3rd Floor\, Conference Room A334\, Chardon\, Ohio 44024 at 7:30 a.m.
URL:https://geauga.oh.gov/event/planning-commission-meeting-17/
LOCATION:Geauga County Office Building\, 12611 Ravenwood Drive\, Chardon\, OH\, 44024\, United States
END:VEVENT
BEGIN:VEVENT
DTSTART;TZID=America/New_York:20260203T093000
DTEND;TZID=America/New_York:20260203T093000
DTSTAMP:20260422T061429
CREATED:20260121T190718Z
LAST-MODIFIED:20260121T191643Z
UID:20223-1770111000-1770111000@geauga.oh.gov
SUMMARY:Commissioners' Meeting
DESCRIPTION:The Commissioners will hold session at 9:30 a.m.
URL:https://geauga.oh.gov/event/commissioners-meeting-100/
LOCATION:Commissioners’ Chambers\, 12611 Ravenwood Drive\, Room B303\, Chardon\, 44024\, United States
END:VEVENT
BEGIN:VEVENT
DTSTART;TZID=America/New_York:20260127T093000
DTEND;TZID=America/New_York:20260127T093000
DTSTAMP:20260422T061429
CREATED:20260105T203811Z
LAST-MODIFIED:20260105T203811Z
UID:20211-1769506200-1769506200@geauga.oh.gov
SUMMARY:Commissioners' Meeting
DESCRIPTION:The Commissioners will hold session at 9:30 a.m.
URL:https://geauga.oh.gov/event/commissioners-meeting-99/
LOCATION:Commissioners’ Chambers\, 12611 Ravenwood Drive\, Room B303\, Chardon\, 44024\, United States
END:VEVENT
END:VCALENDAR