BEGIN:VCALENDAR
VERSION:2.0
PRODID:-//Geauga County - ECPv6.15.20//NONSGML v1.0//EN
CALSCALE:GREGORIAN
METHOD:PUBLISH
X-WR-CALNAME:Geauga County
X-ORIGINAL-URL:https://geauga.oh.gov
X-WR-CALDESC:Events for Geauga County
REFRESH-INTERVAL;VALUE=DURATION:PT1H
X-Robots-Tag:noindex
X-PUBLISHED-TTL:PT1H
BEGIN:VTIMEZONE
TZID:America/New_York
BEGIN:DAYLIGHT
TZOFFSETFROM:-0500
TZOFFSETTO:-0400
TZNAME:EDT
DTSTART:20220313T070000
END:DAYLIGHT
BEGIN:STANDARD
TZOFFSETFROM:-0400
TZOFFSETTO:-0500
TZNAME:EST
DTSTART:20221106T060000
END:STANDARD
BEGIN:DAYLIGHT
TZOFFSETFROM:-0500
TZOFFSETTO:-0400
TZNAME:EDT
DTSTART:20230312T070000
END:DAYLIGHT
BEGIN:STANDARD
TZOFFSETFROM:-0400
TZOFFSETTO:-0500
TZNAME:EST
DTSTART:20231105T060000
END:STANDARD
BEGIN:DAYLIGHT
TZOFFSETFROM:-0500
TZOFFSETTO:-0400
TZNAME:EDT
DTSTART:20240310T070000
END:DAYLIGHT
BEGIN:STANDARD
TZOFFSETFROM:-0400
TZOFFSETTO:-0500
TZNAME:EST
DTSTART:20241103T060000
END:STANDARD
END:VTIMEZONE
BEGIN:VEVENT
DTSTART;VALUE=DATE:20231110
DTEND;VALUE=DATE:20231111
DTSTAMP:20260419T140223
CREATED:20231025T183642Z
LAST-MODIFIED:20231030T183612Z
UID:18963-1699574400-1699660799@geauga.oh.gov
SUMMARY:County Offices Closed
DESCRIPTION:County Offices are Closed in observance of Veterans’ Day. Twenty-four hour operations will continue to operate as normal.
URL:https://geauga.oh.gov/event/veterans-day/
LOCATION:OH
END:VEVENT
BEGIN:VEVENT
DTSTART;TZID=America/New_York:20231107T063000
DTEND;TZID=America/New_York:20231107T193000
DTSTAMP:20260419T140223
CREATED:20231023T184720Z
LAST-MODIFIED:20231023T184720Z
UID:18951-1699338600-1699385400@geauga.oh.gov
SUMMARY:Election Day
DESCRIPTION:Information regarding the November 7\, 2023 General Election can be found on the Board of Elections’ Website.
URL:https://geauga.oh.gov/event/election-day/
LOCATION:OH
END:VEVENT
BEGIN:VEVENT
DTSTART;TZID=America/New_York:20231106T100000
DTEND;TZID=America/New_York:20231106T110000
DTSTAMP:20260419T140223
CREATED:20230918T200757Z
LAST-MODIFIED:20231205T192303Z
UID:18705-1699264800-1699268400@geauga.oh.gov
SUMMARY:Budget Commission Meeting
DESCRIPTION:GEAUGA COUNTY\nBUDGET COMMISSION\nMEETING NOTICE\n \nMonday\, November 6\, 2023 at 10:00 a.m. \nAuditor’s Office\n215 Main Street\nChardon\, OH 44024 \nPURPOSE:  Regular Business \n  \n\n\n\n\nCharles E. Walder\, Auditor\nSecretary / Budget Commission\nMay 18\, 2023\n\n\n\n  \n\n\n\ncc:  \nBoard Members\nChagrin Valley Times\nMaple Leaf\nNews Herald\nPlain Dealer\nStar Beacon\nBulletin Board
URL:https://geauga.oh.gov/event/budget-commission-meeting-notice-for-november-6-2023/
LOCATION:Auditor’s Office\, 215 Main Street\, Chardon\, 44024\, United States
END:VEVENT
BEGIN:VEVENT
DTSTART;TZID=America/New_York:20231101T190000
DTEND;TZID=America/New_York:20231101T213000
DTSTAMP:20260419T140223
CREATED:20231030T150655Z
LAST-MODIFIED:20231205T192210Z
UID:18991-1698865200-1698874200@geauga.oh.gov
SUMMARY:Budget Commission Special Meeting
DESCRIPTION:GEAUGA COUNTY\nBUDGET COMMISSION\nMEETING NOTICE\n \nWednesday\, November 1\, 2023 at 7:00 p.m. \nGeauga County Office Building\n12611 Ravenwood Drive\, Suite A333-A334\nChardon\, OH 44024 \n  \nPURPOSE:  Meet with the Geauga Local Government Elected Officials and support staff \n Discuss the 2023 Revaluation Inside Millage Increase \n Regular Business \n  \n\n\n\n\nCharles E. Walder\, Auditor\nSecretary / Budget Commission\nOctober 27\, 2023\n\n\n\n  \n\n\n\ncc:\nBoard Members\nChagrin Valley Times\nMaple Leaf\nNews Herald\nPlain Dealer\nStar Beacon\nBulletin Board
URL:https://geauga.oh.gov/event/budget-commission-special-meeting-notice/
LOCATION:Geauga County Office Building\, 12611 Ravenwood Drive\, Chardon\, OH\, 44024\, United States
END:VEVENT
BEGIN:VEVENT
DTSTART;TZID=America/New_York:20231025T100000
DTEND;TZID=America/New_York:20231025T120000
DTSTAMP:20260419T140223
CREATED:20231023T180747Z
LAST-MODIFIED:20231205T192110Z
UID:18946-1698228000-1698235200@geauga.oh.gov
SUMMARY:Automatic Data Processing Board Special Meeting
DESCRIPTION:GEAUGA COUNTY\n    AUTOMATIC DATA PROCESSING BOARD\n    SPECIAL MEETING NOTICE\n    Wednesday\, October 25\, 2023\n    10:00 AM\n \nAuditor’s Appraisal Conference Room and Teams for Public Access \nPurpose:  ADP Special Meeting \n\nApproval of Auditor ESRI County Govt. Agreement\nApproval of Mental Health Griffin Technology Group 2024 Contract\nApproval of Sheriff’s Brite Wireless Modems for Bodycams\nProposal to increase the Board approval amount to $50\,000.00\nRegular Business\nPublic Comment\nAdjourn\n\n  \n(Meeting to last approximately 30 minutes) \nPlease call Pam McMahan at extension 1610 with inquires. \n\n    Charles E. Walder\n    Secretary / Data Board\n    October 23\, 2023\n \n\n\nCc:  \n\n            Board members\n            Christine Blair\n            Pam McMahan\n            Caroline Mansfield\n            Maple Leaf\n            News Hearald\n            Plain Dealer\n            Star Beacon\n            Bulletin Board
URL:https://geauga.oh.gov/event/automatic-data-processing-board-special-meeting-notice-for-october-25-2023/
LOCATION:Auditor’s Appraisal Conference Room\, 231 Main Street\, Chardon\, OH\, 44024\, United States
END:VEVENT
BEGIN:VEVENT
DTSTART;TZID=America/New_York:20231009T000000
DTEND;TZID=America/New_York:20231009T235900
DTSTAMP:20260419T140223
CREATED:20231024T125021Z
LAST-MODIFIED:20231024T201608Z
UID:18958-1696809600-1696895940@geauga.oh.gov
SUMMARY:Columbus Day
DESCRIPTION:The Geauga County offices are closed due to Columbus Day.
URL:https://geauga.oh.gov/event/columbus-day/
LOCATION:OH
END:VEVENT
END:VCALENDAR